BEGIN:VCALENDAR
VERSION:2.0
PRODID:-//Sunshine Terrace Foundation - ECPv6.15.17.1//NONSGML v1.0//EN
CALSCALE:GREGORIAN
METHOD:PUBLISH
X-ORIGINAL-URL:https://www.sunshineterrace.org
X-WR-CALDESC:Events for Sunshine Terrace Foundation
REFRESH-INTERVAL;VALUE=DURATION:PT1H
X-Robots-Tag:noindex
X-PUBLISHED-TTL:PT1H
BEGIN:VTIMEZONE
TZID:America/Denver
BEGIN:DAYLIGHT
TZOFFSETFROM:-0700
TZOFFSETTO:-0600
TZNAME:MDT
DTSTART:20230312T090000
END:DAYLIGHT
BEGIN:STANDARD
TZOFFSETFROM:-0600
TZOFFSETTO:-0700
TZNAME:MST
DTSTART:20231105T080000
END:STANDARD
BEGIN:DAYLIGHT
TZOFFSETFROM:-0700
TZOFFSETTO:-0600
TZNAME:MDT
DTSTART:20240310T090000
END:DAYLIGHT
BEGIN:STANDARD
TZOFFSETFROM:-0600
TZOFFSETTO:-0700
TZNAME:MST
DTSTART:20241103T080000
END:STANDARD
BEGIN:DAYLIGHT
TZOFFSETFROM:-0700
TZOFFSETTO:-0600
TZNAME:MDT
DTSTART:20250309T090000
END:DAYLIGHT
BEGIN:STANDARD
TZOFFSETFROM:-0600
TZOFFSETTO:-0700
TZNAME:MST
DTSTART:20251102T080000
END:STANDARD
END:VTIMEZONE
BEGIN:VEVENT
DTSTART;TZID=America/Denver:20240522T170000
DTEND;TZID=America/Denver:20240522T170000
DTSTAMP:20260421T014329
CREATED:20240424T225853Z
LAST-MODIFIED:20240424T230926Z
UID:4585-1716397200-1716397200@www.sunshineterrace.org
SUMMARY:Request for Proposal (RFP) Architectural Services
DESCRIPTION:Request for Proposal (RFP)\nArchitectural Services \nPlease click on the link below for the full RFP.\nAll RFPs are due by May 22\, 2024 @ 5:00 p.m. \nSTF Assit Living RFP_Final
URL:https://www.sunshineterrace.org/event/4585/
LOCATION:Utah
END:VEVENT
END:VCALENDAR