BEGIN:VCALENDAR
VERSION:2.0
PRODID:-//Sunshine Terrace Foundation - ECPv6.15.17.1//NONSGML v1.0//EN
CALSCALE:GREGORIAN
METHOD:PUBLISH
X-ORIGINAL-URL:https://www.sunshineterrace.org
X-WR-CALDESC:Events for Sunshine Terrace Foundation
REFRESH-INTERVAL;VALUE=DURATION:PT1H
X-Robots-Tag:noindex
X-PUBLISHED-TTL:PT1H
BEGIN:VTIMEZONE
TZID:America/Denver
BEGIN:DAYLIGHT
TZOFFSETFROM:-0700
TZOFFSETTO:-0600
TZNAME:MDT
DTSTART:20240310T090000
END:DAYLIGHT
BEGIN:STANDARD
TZOFFSETFROM:-0600
TZOFFSETTO:-0700
TZNAME:MST
DTSTART:20241103T080000
END:STANDARD
BEGIN:DAYLIGHT
TZOFFSETFROM:-0700
TZOFFSETTO:-0600
TZNAME:MDT
DTSTART:20250309T090000
END:DAYLIGHT
BEGIN:STANDARD
TZOFFSETFROM:-0600
TZOFFSETTO:-0700
TZNAME:MST
DTSTART:20251102T080000
END:STANDARD
BEGIN:DAYLIGHT
TZOFFSETFROM:-0700
TZOFFSETTO:-0600
TZNAME:MDT
DTSTART:20260308T090000
END:DAYLIGHT
BEGIN:STANDARD
TZOFFSETFROM:-0600
TZOFFSETTO:-0700
TZNAME:MST
DTSTART:20261101T080000
END:STANDARD
END:VTIMEZONE
BEGIN:VEVENT
DTSTART;TZID=America/Denver:20250619T090000
DTEND;TZID=America/Denver:20250619T160000
DTSTAMP:20260420T051121
CREATED:20250401T220736Z
LAST-MODIFIED:20250501T144445Z
UID:5209-1750323600-1750348800@www.sunshineterrace.org
SUMMARY:STF Golf Tournament
DESCRIPTION:To Register for our golf tournament\, please go to our event on EventZilla
URL:https://www.sunshineterrace.org/event/stf-golf-tournament/
LOCATION:Logan River Golf Course\, 550 W 1000 S\, Logan\, UT\, 84321\, United States
ATTACH;FMTTYPE=image/jpeg:https://www.sunshineterrace.org/wp-content/uploads/2025/04/STF-Golf-website-JUN2025-e1746110602765.jpg
ORGANIZER;CN="Sunshine Terrace Foundation":MAILTO:lila.geddes@sunshineterrace.org
END:VEVENT
END:VCALENDAR