BEGIN:VCALENDAR
VERSION:2.0
PRODID:-//Sunshine Terrace Foundation - ECPv6.15.17.1//NONSGML v1.0//EN
CALSCALE:GREGORIAN
METHOD:PUBLISH
X-WR-CALNAME:Sunshine Terrace Foundation
X-ORIGINAL-URL:https://www.sunshineterrace.org
X-WR-CALDESC:Events for Sunshine Terrace Foundation
REFRESH-INTERVAL;VALUE=DURATION:PT1H
X-Robots-Tag:noindex
X-PUBLISHED-TTL:PT1H
BEGIN:VTIMEZONE
TZID:UTC
BEGIN:STANDARD
TZOFFSETFROM:+0000
TZOFFSETTO:+0000
TZNAME:UTC
DTSTART:20220101T000000
END:STANDARD
END:VTIMEZONE
BEGIN:VEVENT
DTSTART;TZID=UTC:20230701T080000
DTEND;TZID=UTC:20230701T170000
DTSTAMP:20260420T035921
CREATED:20230630T232929Z
LAST-MODIFIED:20230630T232929Z
UID:3436-1688198400-1688230800@www.sunshineterrace.org
SUMMARY:Bingo Night
DESCRIPTION:Join us for a Bingo Night with prizes and fun competition!
URL:https://www.sunshineterrace.org/event/bingo-night/
LOCATION:Terrace Grove
CATEGORIES:Terrace Grove Monthly
END:VEVENT
END:VCALENDAR