BEGIN:VCALENDAR
VERSION:2.0
PRODID:-//Sunshine Terrace Foundation - ECPv6.15.17.1//NONSGML v1.0//EN
CALSCALE:GREGORIAN
METHOD:PUBLISH
X-ORIGINAL-URL:https://www.sunshineterrace.org
X-WR-CALDESC:Events for Sunshine Terrace Foundation
REFRESH-INTERVAL;VALUE=DURATION:PT1H
X-Robots-Tag:noindex
X-PUBLISHED-TTL:PT1H
BEGIN:VTIMEZONE
TZID:America/Denver
BEGIN:DAYLIGHT
TZOFFSETFROM:-0700
TZOFFSETTO:-0600
TZNAME:MDT
DTSTART:20240310T090000
END:DAYLIGHT
BEGIN:STANDARD
TZOFFSETFROM:-0600
TZOFFSETTO:-0700
TZNAME:MST
DTSTART:20241103T080000
END:STANDARD
BEGIN:DAYLIGHT
TZOFFSETFROM:-0700
TZOFFSETTO:-0600
TZNAME:MDT
DTSTART:20250309T090000
END:DAYLIGHT
BEGIN:STANDARD
TZOFFSETFROM:-0600
TZOFFSETTO:-0700
TZNAME:MST
DTSTART:20251102T080000
END:STANDARD
BEGIN:DAYLIGHT
TZOFFSETFROM:-0700
TZOFFSETTO:-0600
TZNAME:MDT
DTSTART:20260308T090000
END:DAYLIGHT
BEGIN:STANDARD
TZOFFSETFROM:-0600
TZOFFSETTO:-0700
TZNAME:MST
DTSTART:20261101T080000
END:STANDARD
BEGIN:DAYLIGHT
TZOFFSETFROM:-0700
TZOFFSETTO:-0600
TZNAME:MDT
DTSTART:20270314T090000
END:DAYLIGHT
BEGIN:STANDARD
TZOFFSETFROM:-0600
TZOFFSETTO:-0700
TZNAME:MST
DTSTART:20271107T080000
END:STANDARD
END:VTIMEZONE
BEGIN:VEVENT
DTSTART;TZID=America/Denver:20250205T150000
DTEND;TZID=America/Denver:20250205T163000
DTSTAMP:20260420T224454
CREATED:20250117T225933Z
LAST-MODIFIED:20250117T230013Z
UID:5094-1738767600-1738773000@www.sunshineterrace.org
SUMMARY:Caregiver 101 Workshop
DESCRIPTION:
URL:https://www.sunshineterrace.org/event/caregiver-101-workshop/
LOCATION:The Worx Outpatient Therapy\, 209 W 300 N\, Logan\, UT\, 84321\, United States
ATTACH;FMTTYPE=image/jpeg:https://www.sunshineterrace.org/wp-content/uploads/2025/01/Caregiver-101-Workshop-Feb-2025-v2.jpg
ORGANIZER;CN="Sunshine Terrace Foundation":MAILTO:lila.geddes@sunshineterrace.org
END:VEVENT
BEGIN:VEVENT
DTSTART;TZID=America/Denver:20250212T150000
DTEND;TZID=America/Denver:20250212T163000
DTSTAMP:20260420T224454
CREATED:20250117T230219Z
LAST-MODIFIED:20250117T230219Z
UID:5096-1739372400-1739377800@www.sunshineterrace.org
SUMMARY:Caregiver 101 Workshop
DESCRIPTION:
URL:https://www.sunshineterrace.org/event/caregiver-101-workshop-2/
LOCATION:The Worx Outpatient Therapy\, 209 W 300 N\, Logan\, UT\, 84321\, United States
ATTACH;FMTTYPE=image/jpeg:https://www.sunshineterrace.org/wp-content/uploads/2025/01/Caregiver-101-Workshop-Feb-2025-v2.jpg
ORGANIZER;CN="Sunshine Terrace Foundation":MAILTO:lila.geddes@sunshineterrace.org
END:VEVENT
BEGIN:VEVENT
DTSTART;TZID=America/Denver:20250219T150000
DTEND;TZID=America/Denver:20250219T163000
DTSTAMP:20260420T224454
CREATED:20250117T230257Z
LAST-MODIFIED:20250117T230321Z
UID:5098-1739977200-1739982600@www.sunshineterrace.org
SUMMARY:Caregiver 101 Workshop
DESCRIPTION:
URL:https://www.sunshineterrace.org/event/5098/
LOCATION:The Worx Outpatient Therapy\, 209 W 300 N\, Logan\, UT\, 84321\, United States
ATTACH;FMTTYPE=image/jpeg:https://www.sunshineterrace.org/wp-content/uploads/2025/01/Caregiver-101-Workshop-Feb-2025-v2.jpg
ORGANIZER;CN="Sunshine Terrace Foundation":MAILTO:lila.geddes@sunshineterrace.org
END:VEVENT
BEGIN:VEVENT
DTSTART;TZID=America/Denver:20250226T150000
DTEND;TZID=America/Denver:20250226T163000
DTSTAMP:20260420T224454
CREATED:20250117T230405Z
LAST-MODIFIED:20250117T230405Z
UID:5101-1740582000-1740587400@www.sunshineterrace.org
SUMMARY:Caregiver 101 Workshop
DESCRIPTION:
URL:https://www.sunshineterrace.org/event/caregiver-101-workshop-3/
LOCATION:The Worx Outpatient Therapy\, 209 W 300 N\, Logan\, UT\, 84321\, United States
ATTACH;FMTTYPE=image/jpeg:https://www.sunshineterrace.org/wp-content/uploads/2025/01/Caregiver-101-Workshop-Feb-2025-v2.jpg
ORGANIZER;CN="Sunshine Terrace Foundation":MAILTO:lila.geddes@sunshineterrace.org
END:VEVENT
BEGIN:VEVENT
DTSTART;TZID=America/Denver:20250423T140000
DTEND;TZID=America/Denver:20250423T153000
DTSTAMP:20260420T224454
CREATED:20250414T160139Z
LAST-MODIFIED:20250414T161529Z
UID:5252-1745416800-1745422200@www.sunshineterrace.org
SUMMARY:2025 Annual Meeting
DESCRIPTION:
URL:https://www.sunshineterrace.org/event/2025-annual-meeting/
LOCATION:The Worx Outpatient Therapy\, 209 W 300 N\, Logan\, UT\, 84321\, United States
ATTACH;FMTTYPE=image/jpeg:https://www.sunshineterrace.org/wp-content/uploads/2025/04/Annual-Meeting-Annoucement-2025-1.jpg
ORGANIZER;CN="Sunshine Terrace Foundation":MAILTO:lila.geddes@sunshineterrace.org
END:VEVENT
BEGIN:VEVENT
DTSTART;TZID=America/Denver:20250602T153000
DTEND;TZID=America/Denver:20250602T170000
DTSTAMP:20260420T224454
CREATED:20250501T143731Z
LAST-MODIFIED:20250501T143946Z
UID:5304-1748878200-1748883600@www.sunshineterrace.org
SUMMARY:Caregiver 101 Workshop - 4 Weekly Sessions
DESCRIPTION:
URL:https://www.sunshineterrace.org/event/caregiver-101-workshop-4/
LOCATION:Sunshine Home Health & Hospice\, 225 North 200 West\, Logan\, UT\, 84321\, United States
ATTACH;FMTTYPE=image/jpeg:https://www.sunshineterrace.org/wp-content/uploads/2025/05/Caregiver-101-Workshop-June-2025-v3.jpg
ORGANIZER;CN="Sunshine Terrace Foundation":MAILTO:lila.geddes@sunshineterrace.org
END:VEVENT
BEGIN:VEVENT
DTSTART;TZID=America/Denver:20250619T090000
DTEND;TZID=America/Denver:20250619T160000
DTSTAMP:20260420T224454
CREATED:20250401T220736Z
LAST-MODIFIED:20250501T144445Z
UID:5209-1750323600-1750348800@www.sunshineterrace.org
SUMMARY:STF Golf Tournament
DESCRIPTION:To Register for our golf tournament\, please go to our event on EventZilla
URL:https://www.sunshineterrace.org/event/stf-golf-tournament/
LOCATION:Logan River Golf Course\, 550 W 1000 S\, Logan\, UT\, 84321\, United States
ATTACH;FMTTYPE=image/jpeg:https://www.sunshineterrace.org/wp-content/uploads/2025/04/STF-Golf-website-JUN2025-e1746110602765.jpg
ORGANIZER;CN="Sunshine Terrace Foundation":MAILTO:lila.geddes@sunshineterrace.org
END:VEVENT
BEGIN:VEVENT
DTSTART;TZID=America/Denver:20250925T180000
DTEND;TZID=America/Denver:20250925T210000
DTSTAMP:20260420T224454
CREATED:20250904T200736Z
LAST-MODIFIED:20250904T201037Z
UID:5436-1758823200-1758834000@www.sunshineterrace.org
SUMMARY:Wasatch Back Benefiting Sunshine Terrace Foundation
DESCRIPTION:Click HERE to purchase tickets. \nhttps://www.eventzilla.net/e/wasatch-back–benefiting-sunshine-terrace-foundation-2138684555
URL:https://www.sunshineterrace.org/event/wasatch-back-benefiting-sunshine-terrace-foundation/
LOCATION:The Vineyards at Mt. Naomi Farms\, 4460 N 400 E\, Hyde Park\, UT\, 84318\, United States
ATTACH;FMTTYPE=image/jpeg:https://www.sunshineterrace.org/wp-content/uploads/2025/09/STF-Fall2025-Flyer-v2-scaled.jpg
ORGANIZER;CN="Sunshine Terrace Foundation":MAILTO:lila.geddes@sunshineterrace.org
END:VEVENT
BEGIN:VEVENT
DTSTART;TZID=America/Denver:20251006T150000
DTEND;TZID=America/Denver:20251006T163000
DTSTAMP:20260420T224454
CREATED:20250826T172922Z
LAST-MODIFIED:20250826T173439Z
UID:5405-1759762800-1759768200@www.sunshineterrace.org
SUMMARY:Caregiver 101 Workshop - 4 Weekly Sessions
DESCRIPTION:
URL:https://www.sunshineterrace.org/event/caregiver-101-workshop-4-weekly-sessions/
LOCATION:Sunshine Home Health & Hospice\, 225 North 200 West\, Logan\, UT\, 84321\, United States
ATTACH;FMTTYPE=image/jpeg:https://www.sunshineterrace.org/wp-content/uploads/2025/05/Caregiver-101-Workshop-June-2025-v3.jpg
ORGANIZER;CN="Sunshine Terrace Foundation":MAILTO:lila.geddes@sunshineterrace.org
END:VEVENT
BEGIN:VEVENT
DTSTART;TZID=America/Denver:20251013T150000
DTEND;TZID=America/Denver:20251013T163000
DTSTAMP:20260420T224454
CREATED:20250826T173151Z
LAST-MODIFIED:20250826T173420Z
UID:5412-1760367600-1760373000@www.sunshineterrace.org
SUMMARY:Caregiver 101 Workshop Week 2
DESCRIPTION:
URL:https://www.sunshineterrace.org/event/caregiver-101-workshop-week-2/
LOCATION:Utah
END:VEVENT
BEGIN:VEVENT
DTSTART;TZID=America/Denver:20251016T150000
DTEND;TZID=America/Denver:20251016T180000
DTSTAMP:20260420T224454
CREATED:20251002T205258Z
LAST-MODIFIED:20251003T143527Z
UID:5480-1760626800-1760637600@www.sunshineterrace.org
SUMMARY:Community Health Fair
DESCRIPTION:
URL:https://www.sunshineterrace.org/event/community-health-fair/
LOCATION:Sunshine Home Health & Hospice\, 225 North 200 West\, Logan\, UT\, 84321\, United States
ATTACH;FMTTYPE=image/jpeg:https://www.sunshineterrace.org/wp-content/uploads/2025/10/Health-Fair-Hanging-Flyer-scaled.jpg
ORGANIZER;CN="Home Health & Hospice":MAILTO:kris.friedli@sunshineterrace.org
END:VEVENT
BEGIN:VEVENT
DTSTART;TZID=America/Denver:20251020T150000
DTEND;TZID=America/Denver:20251020T163000
DTSTAMP:20260420T224454
CREATED:20250826T173233Z
LAST-MODIFIED:20250826T173403Z
UID:5414-1760972400-1760977800@www.sunshineterrace.org
SUMMARY:Caregiver 101 Workshop Week 3
DESCRIPTION:
URL:https://www.sunshineterrace.org/event/caregiver-101-workshop-5/
LOCATION:Utah
END:VEVENT
BEGIN:VEVENT
DTSTART;TZID=America/Denver:20251027T150000
DTEND;TZID=America/Denver:20251027T163000
DTSTAMP:20260420T224454
CREATED:20250826T173334Z
LAST-MODIFIED:20250826T173334Z
UID:5416-1761577200-1761582600@www.sunshineterrace.org
SUMMARY:Caregiver 101 Workshop Week 4
DESCRIPTION:
URL:https://www.sunshineterrace.org/event/caregiver-101-workshop-week-4/
LOCATION:Utah
END:VEVENT
BEGIN:VEVENT
DTSTART;TZID=America/Denver:20260512T090000
DTEND;TZID=America/Denver:20260512T150000
DTSTAMP:20260420T224454
CREATED:20260318T224904Z
LAST-MODIFIED:20260318T231822Z
UID:5697-1778576400-1778598000@www.sunshineterrace.org
SUMMARY:STF 2nd Annual Golf Tournament
DESCRIPTION:Register for our Tournament at https://www.eventzilla.net/e/sunshine-terrace-foundation-golf-tournament-2138674719 \nYou can pay on this same site with a Credit Card or PayPay by selecting PayPal \nor you can select Pay by Invoice or Pay by Check and mail a check to us at \nSunshine Terrace Foundation\n248 W 300 N\nLogan\, UT 84321 \nIf you would prefer to pay by Venmo or by Credit Card from our site\, please go to https://www.sunshineterrace.org/donate/ and click the appropriate option after you register at the EventZilla site and choose the Pay by Check option.
URL:https://www.sunshineterrace.org/event/stf-2nd-annual-golf-tournament/
LOCATION:Birch Creek Golf Course\, 550 E 100 N\, Smithfield\, Utah\, 84335
ORGANIZER;CN="Sunshine Terrace Foundation":MAILTO:lila.geddes@sunshineterrace.org
END:VEVENT
END:VCALENDAR