BEGIN:VCALENDAR
VERSION:2.0
PRODID:-//Sunshine Terrace Foundation - ECPv6.15.17.1//NONSGML v1.0//EN
CALSCALE:GREGORIAN
METHOD:PUBLISH
X-WR-CALNAME:Sunshine Terrace Foundation
X-ORIGINAL-URL:https://www.sunshineterrace.org
X-WR-CALDESC:Events for Sunshine Terrace Foundation
REFRESH-INTERVAL;VALUE=DURATION:PT1H
X-Robots-Tag:noindex
X-PUBLISHED-TTL:PT1H
BEGIN:VTIMEZONE
TZID:America/Denver
BEGIN:DAYLIGHT
TZOFFSETFROM:-0700
TZOFFSETTO:-0600
TZNAME:MDT
DTSTART:20230312T090000
END:DAYLIGHT
BEGIN:STANDARD
TZOFFSETFROM:-0600
TZOFFSETTO:-0700
TZNAME:MST
DTSTART:20231105T080000
END:STANDARD
BEGIN:DAYLIGHT
TZOFFSETFROM:-0700
TZOFFSETTO:-0600
TZNAME:MDT
DTSTART:20240310T090000
END:DAYLIGHT
BEGIN:STANDARD
TZOFFSETFROM:-0600
TZOFFSETTO:-0700
TZNAME:MST
DTSTART:20241103T080000
END:STANDARD
BEGIN:DAYLIGHT
TZOFFSETFROM:-0700
TZOFFSETTO:-0600
TZNAME:MDT
DTSTART:20250309T090000
END:DAYLIGHT
BEGIN:STANDARD
TZOFFSETFROM:-0600
TZOFFSETTO:-0700
TZNAME:MST
DTSTART:20251102T080000
END:STANDARD
END:VTIMEZONE
BEGIN:VEVENT
DTSTART;TZID=America/Denver:20240918T153000
DTEND;TZID=America/Denver:20240918T163000
DTSTAMP:20260420T174904
CREATED:20240917T142852Z
LAST-MODIFIED:20240917T145336Z
UID:4904-1726673400-1726677000@www.sunshineterrace.org
SUMMARY:Caregiver Support Group
DESCRIPTION:
URL:https://www.sunshineterrace.org/event/caregiver-support-group/
LOCATION:The Worx Outpatient Therapy\, 209 W 300 N\, Logan\, UT\, 84321\, United States
CATEGORIES:Foundation Weekly
ORGANIZER;CN="Sunshine Terrace Foundation":MAILTO:lila.geddes@sunshineterrace.org
END:VEVENT
BEGIN:VEVENT
DTSTART;TZID=America/Denver:20240918T170000
DTEND;TZID=America/Denver:20240918T180000
DTSTAMP:20260420T174904
CREATED:20240917T144613Z
LAST-MODIFIED:20240917T145319Z
UID:4914-1726678800-1726682400@www.sunshineterrace.org
SUMMARY:Peaceful Healing
DESCRIPTION:
URL:https://www.sunshineterrace.org/event/peaceful-healing-2/
LOCATION:The Worx Outpatient Therapy\, 209 W 300 N\, Logan\, UT\, 84321\, United States
CATEGORIES:Foundation Weekly
ORGANIZER;CN="Sunshine Terrace Foundation":MAILTO:lila.geddes@sunshineterrace.org
END:VEVENT
BEGIN:VEVENT
DTSTART;TZID=America/Denver:20240925T153000
DTEND;TZID=America/Denver:20240925T163000
DTSTAMP:20260420T174904
CREATED:20240917T144716Z
LAST-MODIFIED:20240917T145304Z
UID:4916-1727278200-1727281800@www.sunshineterrace.org
SUMMARY:Caregiver Support Group
DESCRIPTION:
URL:https://www.sunshineterrace.org/event/caregiver-support-group-2/
LOCATION:The Worx Outpatient Therapy\, 209 W 300 N\, Logan\, UT\, 84321\, United States
CATEGORIES:Foundation Weekly
ORGANIZER;CN="Sunshine Terrace Foundation":MAILTO:lila.geddes@sunshineterrace.org
END:VEVENT
BEGIN:VEVENT
DTSTART;TZID=America/Denver:20240925T170000
DTEND;TZID=America/Denver:20240925T180000
DTSTAMP:20260420T174904
CREATED:20240917T144421Z
LAST-MODIFIED:20240917T145239Z
UID:4911-1727283600-1727287200@www.sunshineterrace.org
SUMMARY:Peaceful Healing
DESCRIPTION:
URL:https://www.sunshineterrace.org/event/peaceful-healing-copy/
LOCATION:The Worx Outpatient Therapy\, 209 W 300 N\, Logan\, UT\, 84321\, United States
CATEGORIES:Foundation Weekly
ORGANIZER;CN="Sunshine Terrace Foundation":MAILTO:lila.geddes@sunshineterrace.org
END:VEVENT
BEGIN:VEVENT
DTSTART;TZID=America/Denver:20240926T160000
DTEND;TZID=America/Denver:20240926T190000
DTSTAMP:20260420T174904
CREATED:20240726T215648Z
LAST-MODIFIED:20240917T180403Z
UID:4712-1727366400-1727377200@www.sunshineterrace.org
SUMMARY:75th Anniversary Community Event
DESCRIPTION: 
URL:https://www.sunshineterrace.org/event/community-event-for-all/
LOCATION:Sunshine Terrace\, 248 W 300 N\, Logan\, UT\, 84321\, United States
ATTACH;FMTTYPE=image/jpeg:https://www.sunshineterrace.org/wp-content/uploads/2024/07/75th-Anniversary-email-091224-3.jpg
ORGANIZER;CN="Sunshine Terrace Foundation":MAILTO:lila.geddes@sunshineterrace.org
END:VEVENT
END:VCALENDAR